BEGIN:VCALENDAR
VERSION:2.0
PRODID:-//Tukios.com/
BEGIN:VEVENT
UID:f5b57f91-c66c-4149-9dc3-c175326f73b5@www.folsomfuneral.com
DTSTAMP:20260424T182209Z
DTSTART:20260429T200000Z
DTEND:20260429T230000Z
SUMMARY:Visitation
DESCRIPTION:
URL:https://www.folsomfuneral.com/obituaries/margaret-mcquaid
LOCATION:Folsom Funeral Home 87 Milton Street  Dedham MA 02026
GEO:42.2449638;-71.1522193
END:VEVENT
END:VCALENDAR