BEGIN:VCALENDAR
VERSION:2.0
PRODID:-//Tukios.com/
BEGIN:VEVENT
UID:ab3cb411-eeef-4e5c-8c82-8b62f4aedcab@www.folsomfuneral.com
DTSTAMP:20260424T181638Z
DTSTART:20260430T140000Z
DTEND:20260430T144500Z
SUMMARY:Funeral Mass
DESCRIPTION:
URL:https://www.folsomfuneral.com/obituaries/margaret-mcquaid
LOCATION:St. Anne’s Church 82 West Milton Street  Boston MA 02136
GEO:42.2389497;-71.1370645
END:VEVENT
END:VCALENDAR