BEGIN:VCALENDAR
VERSION:2.0
PRODID:-//Tukios.com/
BEGIN:VEVENT
UID:a29fe14c-96c0-42a1-a1ef-616df312247a@www.folsomfuneral.com
DTSTAMP:20260421T214456Z
DTSTART:20260428T200000Z
DTEND:20260428T230000Z
SUMMARY:Visitation
DESCRIPTION:
URL:https://www.folsomfuneral.com/obituaries/richard-lassen
LOCATION:Folsom Funeral Home 649 High Street  Westwood MA 02090
GEO:42.226307;-71.2225009
END:VEVENT
END:VCALENDAR