BEGIN:VCALENDAR
VERSION:2.0
PRODID:-//Tukios.com/
BEGIN:VEVENT
UID:c0f2d5f8-7ff4-4629-bd17-59f60e459956@www.folsomfuneral.com
DTSTAMP:20260421T214144Z
DTSTART:20260429T140000Z
DTEND:20260429T150000Z
SUMMARY:Funeral Service
DESCRIPTION:
URL:https://www.folsomfuneral.com/obituaries/richard-lassen
LOCATION:Emmanuel Lutheran Church 24 Berwick Street  Norwood MA 02062
GEO:42.1839609;-71.2110962
END:VEVENT
END:VCALENDAR